BEGIN:VCALENDAR
VERSION:2.0
PRODID:-//VAE CINCINNATI - ECPv6.15.20//NONSGML v1.0//EN
CALSCALE:GREGORIAN
METHOD:PUBLISH
X-ORIGINAL-URL:https://vaecinci.com
X-WR-CALDESC:Events for VAE CINCINNATI
REFRESH-INTERVAL;VALUE=DURATION:PT1H
X-Robots-Tag:noindex
X-PUBLISHED-TTL:PT1H
BEGIN:VTIMEZONE
TZID:America/New_York
BEGIN:DAYLIGHT
TZOFFSETFROM:-0500
TZOFFSETTO:-0400
TZNAME:EDT
DTSTART:20240310T070000
END:DAYLIGHT
BEGIN:STANDARD
TZOFFSETFROM:-0400
TZOFFSETTO:-0500
TZNAME:EST
DTSTART:20241103T060000
END:STANDARD
BEGIN:DAYLIGHT
TZOFFSETFROM:-0500
TZOFFSETTO:-0400
TZNAME:EDT
DTSTART:20250309T070000
END:DAYLIGHT
BEGIN:STANDARD
TZOFFSETFROM:-0400
TZOFFSETTO:-0500
TZNAME:EST
DTSTART:20251102T060000
END:STANDARD
BEGIN:DAYLIGHT
TZOFFSETFROM:-0500
TZOFFSETTO:-0400
TZNAME:EDT
DTSTART:20260308T070000
END:DAYLIGHT
BEGIN:STANDARD
TZOFFSETFROM:-0400
TZOFFSETTO:-0500
TZNAME:EST
DTSTART:20261101T060000
END:STANDARD
END:VTIMEZONE
BEGIN:VEVENT
DTSTART;TZID=America/New_York:20251005T150000
DTEND;TZID=America/New_York:20251005T150000
DTSTAMP:20260425T175013
CREATED:20250809T154158Z
LAST-MODIFIED:20250915T202758Z
UID:2370-1759676400-1759676400@vaecinci.com
SUMMARY:Table of Contents: Chapters of a New Era
DESCRIPTION:  \n  \n  \n  \n  \n  \n  \n  \n  \n  \nMemorial Hall\nSUN\, OCT 5 at 3PM \n\n\nBUY TICKETS\n\nSUBSCRIBE\nA new chapter begins. In his debut concert as Music Director\, Joe Miller invites you to experience the soundscape of VAE\, unfolding in five immersive chapters. In Chapter 1\, Joe pairs the simple with the complex\, challenging our patterns and norms of listening. Chapter 2 reflects on the classics of the repertoire\, reminding us that we can’t look to the future if we don’t know where we came from. Hear a stained-glass window come to life in Chapter 3 before taking a deep dive into the highly emotional sonic world of Chapter 4. The final chapter ends in joy\, with folk-inspired favorites that nod to Joe’s bluegrass roots.
URL:https://vaecinci.com/event/table-of-contents-chapters-of-a-new-era/
LOCATION:Memorial Hall\, 1225 Elm St\, Cincinnati\, OH\, 45202\, United States
END:VEVENT
END:VCALENDAR