BEGIN:VCALENDAR
VERSION:2.0
PRODID:-//VAE CINCINNATI - ECPv6.15.20//NONSGML v1.0//EN
CALSCALE:GREGORIAN
METHOD:PUBLISH
X-ORIGINAL-URL:https://vaecinci.com
X-WR-CALDESC:Events for VAE CINCINNATI
REFRESH-INTERVAL;VALUE=DURATION:PT1H
X-Robots-Tag:noindex
X-PUBLISHED-TTL:PT1H
BEGIN:VTIMEZONE
TZID:America/New_York
BEGIN:DAYLIGHT
TZOFFSETFROM:-0500
TZOFFSETTO:-0400
TZNAME:EDT
DTSTART:20240310T070000
END:DAYLIGHT
BEGIN:STANDARD
TZOFFSETFROM:-0400
TZOFFSETTO:-0500
TZNAME:EST
DTSTART:20241103T060000
END:STANDARD
BEGIN:DAYLIGHT
TZOFFSETFROM:-0500
TZOFFSETTO:-0400
TZNAME:EDT
DTSTART:20250309T070000
END:DAYLIGHT
BEGIN:STANDARD
TZOFFSETFROM:-0400
TZOFFSETTO:-0500
TZNAME:EST
DTSTART:20251102T060000
END:STANDARD
BEGIN:DAYLIGHT
TZOFFSETFROM:-0500
TZOFFSETTO:-0400
TZNAME:EDT
DTSTART:20260308T070000
END:DAYLIGHT
BEGIN:STANDARD
TZOFFSETFROM:-0400
TZOFFSETTO:-0500
TZNAME:EST
DTSTART:20261101T060000
END:STANDARD
END:VTIMEZONE
BEGIN:VEVENT
DTSTART;TZID=America/New_York:20251219T193000
DTEND;TZID=America/New_York:20251219T193000
DTSTAMP:20260425T150921
CREATED:20250728T192644Z
LAST-MODIFIED:20251126T210749Z
UID:2365-1766172600-1766172600@vaecinci.com
SUMMARY:An Italian Christmas: A Light in the Darkness - DEC 19
DESCRIPTION:Christ Church Cathedral\n318 E. Fourth St\nCincinnati\, OH 45202\nFRI\, DEC 19 at 7:30PM \n\nBUY TICKETS – FRI\, DEC 19\nSUBSCRIBE\n\nJourney back in time and across the globe as the voices of VAE guide you through the music of the Italian Baroque and Renaissance eras. The program’s three parts unfurl from the shadows of winter in a multi–sensory holiday experience unlike any other. Beginning in darkness surrounded by the most powerful organ sounds imaginable\, voices\, brass\, strings and winds unite with the music of Dupré\, Caccini\, Palestrina and Gabrieli. Guerrero’s triple-choir grandeur and the music of Monteverdi and Corelli draw us closer to the source of light\, building with the sound of Cincinnati’s own Verdin Bell. Gabrieli’s O Magnum Mysterium brings the journey to rest in awe and soul-stirring celebration.
URL:https://vaecinci.com/event/an-italian-christmas-a-light-in-the-darkness/
LOCATION:Christ Church Cathedral\, 318 E. Fourth St\, Cincinnati\, OH\, 45202\, United States
END:VEVENT
END:VCALENDAR