BEGIN:VCALENDAR
VERSION:2.0
PRODID:-//VAE CINCINNATI - ECPv6.15.20//NONSGML v1.0//EN
CALSCALE:GREGORIAN
METHOD:PUBLISH
X-WR-CALNAME:VAE CINCINNATI
X-ORIGINAL-URL:https://vaecinci.com
X-WR-CALDESC:Events for VAE CINCINNATI
REFRESH-INTERVAL;VALUE=DURATION:PT1H
X-Robots-Tag:noindex
X-PUBLISHED-TTL:PT1H
BEGIN:VTIMEZONE
TZID:America/New_York
BEGIN:DAYLIGHT
TZOFFSETFROM:-0500
TZOFFSETTO:-0400
TZNAME:EDT
DTSTART:20210314T070000
END:DAYLIGHT
BEGIN:STANDARD
TZOFFSETFROM:-0400
TZOFFSETTO:-0500
TZNAME:EST
DTSTART:20211107T060000
END:STANDARD
BEGIN:DAYLIGHT
TZOFFSETFROM:-0500
TZOFFSETTO:-0400
TZNAME:EDT
DTSTART:20220313T070000
END:DAYLIGHT
BEGIN:STANDARD
TZOFFSETFROM:-0400
TZOFFSETTO:-0500
TZNAME:EST
DTSTART:20221106T060000
END:STANDARD
BEGIN:DAYLIGHT
TZOFFSETFROM:-0500
TZOFFSETTO:-0400
TZNAME:EDT
DTSTART:20230312T070000
END:DAYLIGHT
BEGIN:STANDARD
TZOFFSETFROM:-0400
TZOFFSETTO:-0500
TZNAME:EST
DTSTART:20231105T060000
END:STANDARD
BEGIN:DAYLIGHT
TZOFFSETFROM:-0500
TZOFFSETTO:-0400
TZNAME:EDT
DTSTART:20240310T070000
END:DAYLIGHT
BEGIN:STANDARD
TZOFFSETFROM:-0400
TZOFFSETTO:-0500
TZNAME:EST
DTSTART:20241103T060000
END:STANDARD
BEGIN:DAYLIGHT
TZOFFSETFROM:-0500
TZOFFSETTO:-0400
TZNAME:EDT
DTSTART:20250309T070000
END:DAYLIGHT
BEGIN:STANDARD
TZOFFSETFROM:-0400
TZOFFSETTO:-0500
TZNAME:EST
DTSTART:20251102T060000
END:STANDARD
BEGIN:DAYLIGHT
TZOFFSETFROM:-0500
TZOFFSETTO:-0400
TZNAME:EDT
DTSTART:20260308T070000
END:DAYLIGHT
BEGIN:STANDARD
TZOFFSETFROM:-0400
TZOFFSETTO:-0500
TZNAME:EST
DTSTART:20261101T060000
END:STANDARD
END:VTIMEZONE
BEGIN:VEVENT
DTSTART;TZID=America/New_York:20251220T140000
DTEND;TZID=America/New_York:20251220T140000
DTSTAMP:20260425T122230
CREATED:20250809T154034Z
LAST-MODIFIED:20251126T210820Z
UID:2378-1766239200-1766239200@vaecinci.com
SUMMARY:An Italian Christmas: A Light in the Darkness - DEC 20
DESCRIPTION:Christ Church Cathedral\n318 E. Fourth St\nCincinnati\, OH 45202\nSAT\, DEC 20 at 2PM \n\nBUY TICKETS – SAT\, DEC 20\nSUBSCRIBE\n\nJourney back in time and across the globe as the voices of VAE guide you through the music of the Italian Baroque and Renaissance eras. The program’s three parts unfurl from the shadows of winter in a multi–sensory holiday experience unlike any other. Beginning in darkness surrounded by the most powerful organ sounds imaginable\, voices\, brass\, strings and winds unite with the music of Dupré\, Caccini\, Palestrina and Gabrieli. Guerrero’s triple-choir grandeur and the music of Monteverdi and Corelli draw us closer to the source of light\, building with the sound of Cincinnati’s own Verdin Bell. Gabrieli’s O Magnum Mysterium brings the journey to rest in awe and soul-stirring celebration.
URL:https://vaecinci.com/event/an-italian-christmas-a-light-in-the-darkness-dec-20/
LOCATION:Christ Church Cathedral\, 318 E. Fourth St\, Cincinnati\, OH\, 45202\, United States
END:VEVENT
BEGIN:VEVENT
DTSTART;TZID=America/New_York:20251219T193000
DTEND;TZID=America/New_York:20251219T193000
DTSTAMP:20260425T122230
CREATED:20250728T192644Z
LAST-MODIFIED:20251126T210749Z
UID:2365-1766172600-1766172600@vaecinci.com
SUMMARY:An Italian Christmas: A Light in the Darkness - DEC 19
DESCRIPTION:Christ Church Cathedral\n318 E. Fourth St\nCincinnati\, OH 45202\nFRI\, DEC 19 at 7:30PM \n\nBUY TICKETS – FRI\, DEC 19\nSUBSCRIBE\n\nJourney back in time and across the globe as the voices of VAE guide you through the music of the Italian Baroque and Renaissance eras. The program’s three parts unfurl from the shadows of winter in a multi–sensory holiday experience unlike any other. Beginning in darkness surrounded by the most powerful organ sounds imaginable\, voices\, brass\, strings and winds unite with the music of Dupré\, Caccini\, Palestrina and Gabrieli. Guerrero’s triple-choir grandeur and the music of Monteverdi and Corelli draw us closer to the source of light\, building with the sound of Cincinnati’s own Verdin Bell. Gabrieli’s O Magnum Mysterium brings the journey to rest in awe and soul-stirring celebration.
URL:https://vaecinci.com/event/an-italian-christmas-a-light-in-the-darkness/
LOCATION:Christ Church Cathedral\, 318 E. Fourth St\, Cincinnati\, OH\, 45202\, United States
END:VEVENT
BEGIN:VEVENT
DTSTART;TZID=America/New_York:20251005T150000
DTEND;TZID=America/New_York:20251005T150000
DTSTAMP:20260425T122230
CREATED:20250809T154158Z
LAST-MODIFIED:20250915T202758Z
UID:2370-1759676400-1759676400@vaecinci.com
SUMMARY:Table of Contents: Chapters of a New Era
DESCRIPTION:  \n  \n  \n  \n  \n  \n  \n  \n  \n  \nMemorial Hall\nSUN\, OCT 5 at 3PM \n\n\nBUY TICKETS\n\nSUBSCRIBE\nA new chapter begins. In his debut concert as Music Director\, Joe Miller invites you to experience the soundscape of VAE\, unfolding in five immersive chapters. In Chapter 1\, Joe pairs the simple with the complex\, challenging our patterns and norms of listening. Chapter 2 reflects on the classics of the repertoire\, reminding us that we can’t look to the future if we don’t know where we came from. Hear a stained-glass window come to life in Chapter 3 before taking a deep dive into the highly emotional sonic world of Chapter 4. The final chapter ends in joy\, with folk-inspired favorites that nod to Joe’s bluegrass roots.
URL:https://vaecinci.com/event/table-of-contents-chapters-of-a-new-era/
LOCATION:Memorial Hall\, 1225 Elm St\, Cincinnati\, OH\, 45202\, United States
END:VEVENT
BEGIN:VEVENT
DTSTART;TZID=America/New_York:20250301T193000
DTEND;TZID=America/New_York:20250301T193000
DTSTAMP:20260425T122230
CREATED:20240910T134345Z
LAST-MODIFIED:20250219T202738Z
UID:2007-1740857400-1740857400@vaecinci.com
SUMMARY:VOICES IN EXILE
DESCRIPTION:BUY TICKETS\nSUBSCRIBE\n\n\n\nELENA SHARKOVA conductor \nThroughout Russia’s tumultuous history\, its government forced into exile scores of its best talent: composers\, performers\, writers\, dancers and artists. Those who stayed were forced to work under brutal censorship and live in fear. The Voices in Exile concert illuminates and celebrates the strength\, ingenuity and faith that kept composers such as Schnittke\, Sviridov\, Chesnokov\, Gubaidulina and Rachmaninoff working despite the heartache of immigration and the darkness of the brutal regime. Life-affirming songs of faith and soul-searching laments are intertwined with poems by Pasternak\, Tsvetayeva\, Akhmatova and more. \nPre-concert talk:\nArrive by 6:45 PM for a 30-minute pre-concert talk by conductor Elena Sharkova.
URL:https://vaecinci.com/event/voices-in-exile/
LOCATION:Christ Church Cathedral\, 318 E. Fourth St\, Cincinnati\, OH\, 45202\, United States
END:VEVENT
BEGIN:VEVENT
DTSTART;TZID=America/New_York:20241222T193000
DTEND;TZID=America/New_York:20241222T193000
DTSTAMP:20260425T122230
CREATED:20240910T134401Z
LAST-MODIFIED:20241009T132414Z
UID:2000-1734895800-1734895800@vaecinci.com
SUMMARY:CANDLELIT CHRISTMAS DEC 22
DESCRIPTION:BUY TICKETS\nSUBSCRIBE\n\n\nMATTHEW SWANSON conductor \nVAE’s beloved Candlelit Christmas returns to the Immaculate Heart of Mary Chapel at The Summit Country Day School. Music from across a thousand years is woven together into an unbroken tapestry of singing\, all presented in contemplative candlelight. Hear the music of Judith Weir\, Morten Lauridsen\, Roderick Williams and other leading composers of today alongside the timeless plainchant and familiar carols of centuries past. Join VAE and fill the longest nights of the year with song. \nMatthew Swanson will do a pre-concert talk at 7 pm before both performances.
URL:https://vaecinci.com/event/candlelit-christmas-dec-22/
LOCATION:The Summit Country Day School\, 2161 GRANDIN RD.\, United States
END:VEVENT
BEGIN:VEVENT
DTSTART;TZID=America/New_York:20241221T193000
DTEND;TZID=America/New_York:20241221T193000
DTSTAMP:20260425T122230
CREATED:20240910T134419Z
LAST-MODIFIED:20241010T140849Z
UID:2012-1734809400-1734809400@vaecinci.com
SUMMARY:CANDLELIT CHRISTMAS DEC 21
DESCRIPTION:BUY TICKETS \n\n\nSUBSCRIBE \n\n\n\nMATTHEW SWANSON conductor \nVAE’s beloved Candlelit Christmas returns to the Immaculate Heart of Mary Chapel at The Summit Country Day School. Music from across a thousand years is woven together into an unbroken tapestry of singing\, all presented in contemplative candlelight. Hear the music of Judith Weir\, Morten Lauridsen\, Roderick Williams and other leading composers of today alongside the timeless plainchant and familiar carols of centuries past. Join VAE and fill the longest nights of the year with song. \nMatthew Swanson will do a pre-concert talk at 7 pm before both performances.
URL:https://vaecinci.com/event/candlelit-christmas-dec-21/
LOCATION:The Summit Country Day School\, 2161 GRANDIN RD.\, United States
END:VEVENT
BEGIN:VEVENT
DTSTART;TZID=America/New_York:20241018T193000
DTEND;TZID=America/New_York:20241018T193000
DTSTAMP:20260425T122230
CREATED:20240910T134440Z
LAST-MODIFIED:20240919T140221Z
UID:1986-1729279800-1729279800@vaecinci.com
SUMMARY:THE WOUNDED HEART: Songs of Passion & Loss
DESCRIPTION:  \n  \n  \n  \n  \n  \n  \n  \n  \n  \nBUY TICKETS\nSUBSCRIBE\n\n  \n  \n\n\n\nBENEDICT SHEEHAN conductor \nAn evening of passionate choral works by Maddalena Casulana\, Barbara Strozzi\, Laura Hawley and Anna Olson\, culminating in the world premiere of Benedict Sheehan’s The Passion of Mary\, a new exploration of the Christian Passion narrative from the perspective of Jesus’ mother.
URL:https://vaecinci.com/event/the-wounded-heart-songs-of-passion-loss/
LOCATION:Christ Church Cathedral\, 318 E. Fourth St\, Cincinnati\, OH\, 45202\, United States
END:VEVENT
BEGIN:VEVENT
DTSTART;TZID=America/New_York:20240404T190000
DTEND;TZID=America/New_York:20240404T190000
DTSTAMP:20260425T122230
CREATED:20230915T201245Z
LAST-MODIFIED:20240403T204824Z
UID:1630-1712257200-1712257200@vaecinci.com
SUMMARY:Salon Concert: Sun\, Moon & Stars
DESCRIPTION:  \n  \n  \n  \n  \n  \n  \n  \n  \n  \nBUY TICKETS\n\n\nCHRISTIN SEARS conductor \nUsing music selections from Samuel Coleridge-Taylor\, David Childs\, Laura Mvula and more\, Sun\, Moon & Stars explores stories of the human experience — life\, longing\, love and loss — through the wonders of our universe and the mystery and beauty that it holds.
URL:https://vaecinci.com/event/sun-moon-stars/
LOCATION:Wilks Studio\, Music Hall\, 1241 Elm St\, Cincinnati\, OH\, 45202\, United States
END:VEVENT
BEGIN:VEVENT
DTSTART;TZID=America/New_York:20240310T150000
DTEND;TZID=America/New_York:20240310T150000
DTSTAMP:20260425T122230
CREATED:20230915T200450Z
LAST-MODIFIED:20240307T154559Z
UID:1622-1710082800-1710082800@vaecinci.com
SUMMARY:BACH B MINOR MASS
DESCRIPTION:  \n  \n  \n  \n  \n  \n  \n  \n  \n  \nBUY TICKETS – SUN MAR 10 @ 3:00 pm\nSUBSCRIBE TWO CONCERTS\nSUBSCRIBE THREE CONCERTS\nCRAIG HELLA JOHNSON conductor \nProgram:\nBach Mass in B Minor \nBeloved Grammy-winner Craig Hella Johnson returns to conduct his final performances as VAE Music Director with a performance of Johann Sebastian Bach’s greatest work\, Mass in B minor. Full of mystery and splendor\, this oratorio is a cathedral of sound\, and represents the culmination of Bach’s work throughout his life. \nThis concert is sponsored by the Willard and Jean Mulford Charitable Fund of the Cambridge Charitable Foundation and the William O. Purdy\, Jr. Foundation Fund of the Greater Cincinnati Foundation.. \nNeed help? Contact the Box Office 513.381.3300 (M-F 10-5; Sat. 10-2)
URL:https://vaecinci.com/event/bach-b-minor-mass-3-10-24/
LOCATION:Christ Church Cathedral\, 318 E. Fourth St\, Cincinnati\, OH\, 45202\, United States
END:VEVENT
BEGIN:VEVENT
DTSTART;TZID=America/New_York:20240309T193000
DTEND;TZID=America/New_York:20240309T193000
DTSTAMP:20260425T122230
CREATED:20230915T200321Z
LAST-MODIFIED:20240307T154433Z
UID:1619-1710012600-1710012600@vaecinci.com
SUMMARY:BACH B MINOR MASS
DESCRIPTION:  \n  \n  \n  \n  \n  \n  \n  \n  \n  \nBUY TICKETS – SAT MAR 9 @ 7:30 pm\nSUBSCRIBE TWO CONCERTS\nSUBSCRIBE THREE CONCERTS\nCRAIG HELLA JOHNSON conductor \nProgram:\nBACH Mass in B Minor \nBeloved Grammy-winner Craig Hella Johnson returns to conduct his final performances as VAE Music Director with a performance of Johann Sebastian Bach’s greatest work\, Mass in B minor. Full of mystery and splendor\, this oratorio is a cathedral of sound\, and represents the culmination of Bach’s work throughout his life. \nThis concert is sponsored by the Willard and Jean Mulford Charitable Fund of the Cambridge Charitable Foundation and the William O. Purdy\, Jr. Foundation Fund of the Greater Cincinnati Foundation.. \nNeed help? Contact the Box Office 513.381.3300 (M-F 10-5; Sat. 10-2)
URL:https://vaecinci.com/event/bach-b-minor-mass/
LOCATION:Christ Church Cathedral\, 318 E. Fourth St\, Cincinnati\, OH\, 45202\, United States
END:VEVENT
BEGIN:VEVENT
DTSTART;TZID=America/New_York:20240203T193000
DTEND;TZID=America/New_York:20240203T193000
DTSTAMP:20260425T122230
CREATED:20240110T152445Z
LAST-MODIFIED:20240130T163652Z
UID:1801-1706988600-1706988600@vaecinci.com
SUMMARY:Take Yourself With You
DESCRIPTION:  \n  \n  \n  \n  \n  \n  \n  \nBUY TICKETS\nSUBSCRIBE 2 CONCERTS\nSUBSCRIBE 3 CONCERTS\n  \n\nLAUREN McALLISTER conductor\nSTEPHEN MICHAEL HANNA baritone\nELLEN GRAHAM mezzo-soprano\nJACKIE STEVENS soprano\nJASON VEST tenor\nDAVID KIRKENDALL piano\n\n\nProgram: \n  \n\nH. LESLIE ADAMS To the Road! from The Wider View\nM. C. RICHARDS Introit – Opening Song\, from Angel Poems\nEDWARD ELGAR Where Corals Lie\, from Sea Pictures\nALEXANDER BORODIN Morskaja Carevna (The Sea Princess)\nFANNY HENSEL Hörst du nicht die Bäume rauschen (from Gartenlieder\, Op. 3)\nMARC BLITZSTEIN I wish it so (from Juno)\nCHRISTINA ROSSETTI Up-Hill\nFANNY HENSEL Abendlich schon rauscht der Wald (from Gartenlieder\, Op. 3)\nSAMUEL BARBER Stopping by Woods on a Snowy Evening\nERNEST BLOCH La Vagabonde (from Poemes d’Automne)\nFRANZ SCHUBERT Wanderers Nachtlied I & II\nANDRÉ CAPLET Forêt (from Le Vieux coffret)\nFANNY HENSEL Schöne Fremde (from Gartenlieder\, Op. 3)\nRABINDRANATH TAGORE Closed Path\nCHARLES IVES The World’s Highway\nFANNY HENSEL Morgengruss (WN 433)\nLORI LAITMAN Last Night the Rain Spoke to Me\nJOHN DUKE Wood Song (from Songs Out of Sorrow)\nGERALD FINZI For Life I had never cared greatly (from I Said to Love)\nFANNY HENSEL Im Wald (from Gartenlieder\, Op. 3)\nM.C. RICHARDS Behold\nSTEPHEN PAULUS The Road Home\n\nJoin members of the VAE for an exploration of the many roads we take to learn about ourselves\, each other\, and our place in the universe. Selections from Fanny Hensel\, Samuel Barber\, H. Leslie Adams\, and Stephen Paulus combine with poems from Mary Oliver\, M. C. Richards\, and Bengali Brahmin Rabindranath Tagore to round out the program.Need help? Contact the Box Office 513.381.3300 (M-F 10-5; Sat. 10-2)
URL:https://vaecinci.com/event/take-yourself-with-you-2/
LOCATION:St. Catharine of Siena\, 2848 Fischer Place\, Cincinnati\, 45211\, United States
END:VEVENT
BEGIN:VEVENT
DTSTART;TZID=America/New_York:20240127T193000
DTEND;TZID=America/New_York:20240127T193000
DTSTAMP:20260425T122230
CREATED:20230915T195630Z
LAST-MODIFIED:20240124T175308Z
UID:1615-1706383800-1706383800@vaecinci.com
SUMMARY:HARMONY ACROSS TRADITIONS: An Evening with Isaac Cates
DESCRIPTION:  \n  \n  \n  \n  \n  \n  \n  \n  \n  \nBUY TICKETS\nSUBSCRIBE TWO CONCERTS\nSUBSCRIBE THREE CONCERTS\n\nISAAC CATES conductor \nProgram:\n\nLift Every Voice and Sing JAMES WELDON JOHNSON\, arr. Rolond Corter\nStriving After God UNDINE SMITH MOORE\, ed. James Abbington\nThe Lord’s Prayer arr. ISAAC CATES\nI’m Gonna Sing ‘Til the Spirit Moves in My Heart MOSES HOGAN\nJohn 3:16 B.E. BOYKIN\nRest MICHAEL ENGELHARDT\nIt’s Working ISAAC CATES\nBe Healed ISAAC CATES\nKontakion ISAAC CATES and NICHOLAS REEVES\nTake My Life (Lacrimosa) ISAAC CATES\nOde V ISAAC CATES\nLovely Day words and music by BILL WITHERS and\nSKIP SCARBOROUGH\, orr. ROBERT T. GIBSON \nInternationally renowned conductor and composer Isaac Cates will lead a diverse program of music highlighting contemporary\, choral\, gospel and folk music traditions\, with each piece telling a story aimed at uplifting and connecting listeners to the music and to each other. Isaac has achieved international fame as an artist\, composer\, arranger\, choral director\, and educator\, and is excited to share his own lived musical experience with our VAE audiences. \nNeed help? Contact the Box Office 513.381.3300 (M-F 10-5; Sat. 10-2)
URL:https://vaecinci.com/event/harmony-across-traditions-an-evening-with-isaac-cates/
LOCATION:Zion Baptist Church\, 630 GLENWOOD AVE.\, Cincinnati\, OH\, United States
END:VEVENT
BEGIN:VEVENT
DTSTART;TZID=America/New_York:20231216T193000
DTEND;TZID=America/New_York:20231216T193000
DTSTAMP:20260425T122230
CREATED:20230915T194654Z
LAST-MODIFIED:20231117T202611Z
UID:1613-1702755000-1702755000@vaecinci.com
SUMMARY:AN INTIMATE CHRISTMAS WITH VAE
DESCRIPTION:  \n  \n  \n  \n  \n  \n  \n  \n  \n  \nBUY TICKETS\nSUBSCRIBE TWO CONCERTS\nSUBSCRIBE THREE CONCERTS\n\nTREVOR KROEGER conductor\nWITH QUEEN CITY CABARET \nEscape the winter chill and the holiday rush at An Intimate Christmas with VAE\, a cozy reimagining of our candlelit holiday concert. Conductor Trevor Kroeger will lead VAE singers\, instrumentalists\, and Queen City Cabaret in a program featuring fresh arrangements of favorite holiday tunes and unexpected choral gems. Join us for this warm and welcoming celebration of the most wonderful time of the year! \nThis concert is supported in part by the Crosset Family Fund of the Greater Cincinnati Foundation. \nNeed help? Contact the Box Office 513.381.3300 (M-F 10-5; Sat. 10-2)
URL:https://vaecinci.com/event/an-intimate-christmas-with-vae/
LOCATION:Christ Church Cathedral\, 318 E. Fourth St\, Cincinnati\, OH\, 45202\, United States
END:VEVENT
BEGIN:VEVENT
DTSTART;TZID=America/New_York:20231028T140000
DTEND;TZID=America/New_York:20231028T140000
DTSTAMP:20260425T122230
CREATED:20230915T201030Z
LAST-MODIFIED:20230918T180618Z
UID:1627-1698501600-1698501600@vaecinci.com
SUMMARY:Salon Concert: Take Yourself With You
DESCRIPTION:
URL:https://vaecinci.com/event/take-yourself-with-you/
LOCATION:Wilks Studio\, Music Hall\, 1241 Elm St\, Cincinnati\, OH\, 45202\, United States
END:VEVENT
BEGIN:VEVENT
DTSTART;TZID=America/New_York:20230429T193000
DTEND;TZID=America/New_York:20230429T193000
DTSTAMP:20260425T122230
CREATED:20220915T170621Z
LAST-MODIFIED:20230428T181433Z
UID:1203-1682796600-1682796600@vaecinci.com
SUMMARY:Sanctuary Road
DESCRIPTION:Jarson Kaplan TheatreSAT APR 29 at 7:30 pmBuy Tickets \n\n\n\nSubscribe Now \n\n\n\nMalcolm Merriweather\, conductorDashon Burton\, bass-baritoneMalcom Merriweather\, baritoneLaquita Mitchell\, sopranoTaylor Raven\, mezzo-sopranoNoah Stewart\, tenor \n\n\n\nProgram: PAUL MORAVEC/MARK CAMPBELL: Sanctuary Road \n\n\n\n\n\nSanctuary Road by Pulitzer Prize-winning composer Paul Moravec and Pulitzer Prize and Grammy Award winning librettist Mark Campbell. It is the second of Moravec’s “American historical oratorios.” Campbell conceived and created the libretto drawn from the astonishing stories found in William Still’s The Underground Railroad. Regarded as the Father of the Underground Railroad\, Still‘s meticulous documentation of the heroic and courageous stories of enslaved African Americans escaping to freedom is transformed into a “modern choral masterpiece\, representing struggle and hope in the best of the oratorio tradition” (Black Grooves). \n\n\n\n“Each time I returned to Moravec’s new composition my admiration for his work grew\, and the music stayed with me long after I stopped listening.”—The Classical Review \n\n\n\n“The relevance of Sanctuary Road (2017) in our present century cannot be overstated\, analogous to that of Tippett’s A Child of our Time to wartime Britain.”—Gramophone \n\n\n\n“Moravec’s largely tonal score is deeply affecting and conveys the many voices represented in Still’s writings\, notably in the prologue’s gently overlapping melodic lines where name after name ripples among soloists and chorus.”—Classical Music \nVAE’s performance of Sanctuary Road is supported by the William O. Purdy\, Jr. Foundation Fund of the Greater Cincinnati Foundation and the Cincinnati Arts Association. \n\n\n\nNeed help? Contact the Box Office 513.381.3300 (M-F 10-5; Sat. 10-2) \n\n\n\nIMPORTANT: Please review our health and safety information and current protocols at vaecinci.com/health-safety
URL:https://vaecinci.com/event/sanctuary-road/
LOCATION:Jarson Kaplan Theater\, 650 Walnut Street\, Cincinnati\, OH\, 45202\, United States
END:VEVENT
BEGIN:VEVENT
DTSTART;TZID=America/New_York:20230121T193000
DTEND;TZID=America/New_York:20230121T193000
DTSTAMP:20260425T122230
CREATED:20220915T170634Z
LAST-MODIFIED:20230105T183019Z
UID:1207-1674329400-1674329400@vaecinci.com
SUMMARY:Path of Miracles
DESCRIPTION:Christ Church CathedralSAT JAN 21 at 7:30 pmBuy Tickets \n\n\n\nSubscribe Now \n\n\n\nCRAIG HELLA JOHNSON conductor \n\n\n\nProgram: JOBY TALBOT: Path of Miracles \n\n\n\nInspired by the historic pilgrimage to Santiago de Compostela\, Path of Miracles by Joby Talbot is a haunting choral masterpiece\, rich and raw in reflection of all life’s journeys. As Jill Kimball of the Second Inversion project writes\, “You don’t have to be religious\, or even spiritual\, to find adventure in Joby Talbot’s Path of Miracles. The seventeen-part harmony\, set to text that’s in turns religious\, historical\, and poetic\, is indescribably beautiful. Talbot’s piece is the choral interpretation of a month-long journey filled with excitement\, doubt\, revelation\, fear\, and triumph.” \n\n\n\n“Although it sounds forbidding as a concept it is anything but in performance\, where it is engrossing\, textured\, emotionally engaging and dramatic..”—The Arts Desk \n\n\n\n“This is musical mysticism at its richest and most greedy – grasping from all traditions and sources\, and treasuring each element in this musical collage..”—Gramophone \nVAE’s performance of Path of Miracles is supported by the Willard and Jean Mulford Charitable Fund of the Cambridge Charitable Foundation. \n\n\n\nNeed help? Contact the Box Office 513.381.3300 (M-F 10-5; Sat. 10-2) \n\n\n\nIMPORTANT: Please review our health and safety information and current protocols at vaecinci.com/health-safety
URL:https://vaecinci.com/event/path-of-miracles/
LOCATION:Christ Church Cathedral\, 318 E. Fourth St\, Cincinnati\, OH\, 45202\, United States
END:VEVENT
BEGIN:VEVENT
DTSTART;TZID=America/New_York:20221112T193000
DTEND;TZID=America/New_York:20221112T193000
DTSTAMP:20260425T122230
CREATED:20211115T185350Z
LAST-MODIFIED:20221108T135644Z
UID:805-1668281400-1668281400@vaecinci.com
SUMMARY:Mass for the Endangered
DESCRIPTION:Christ Church CathedralSAT NOV 12 at 7:30 pmBuy Tickets \n\n\n Subscribe and save 15% when you purchase by OCT 14! – Subscribe Now \nCRAIG HELLA JOHNSON conductor \nProgram: SARAH KIRKLAND SNIDER: Mass for the Endangered \nWhat does it mean to be stewards of the earth? Sarah Kirkland Snider’s Mass is a call to action and urgency in the ways in which we relate to the natural world. By weaving together the traditional musical modes of the Latin Mass and original text by Nathaniel Bellows her “gorgeous\, moving piece” (The Nation) brings the divine down to earth and reveals the miracles\, and responsibilities\, of so much wondrous life around us. \n“Snider’s lucid score [for ‘Mass for the Endangered’] is at once powerful and delicate…[with] striking harmonies\, imaginative use of texture [and] counterpoint that is as intricate and exquisite as a spider’s web. This a luminous and arresting disc that conveys its urgent ecological message with power and beauty.”—BBC Music Magazine \n“Arresting…[Mass for the Endangered] shines with multi-layered singing of uncommon beauty…Snider asserts her own musical personality as a composer who knows instinctively how to write for the human voice…Through her smart and resplendent exploration of age-old musical formulas\, Snider’s eco-inspired Mass for the Endangered is a blast from the past that resonates profoundly in the present.”—NPR All Things Considered \nVAE’s performance of Mass for the Endangered is supported by the Crosset Family Fund of the Greater Cincinnati Foundation and the Willard and Jean Mulford Charitable Fund of the Cambridge Charitable Foundation. \nNeed help? Contact the Box Office 513.381.3300 (M-F 10-5; Sat. 10-2) IMPORTANT: Please review our health and safety information and current protocols at vaecinci.com/health-safety
URL:https://vaecinci.com/event/mass-for-the-endangered/
LOCATION:Christ Church Cathedral\, 318 E. Fourth St\, Cincinnati\, OH\, 45202\, United States
END:VEVENT
END:VCALENDAR