BEGIN:VCALENDAR
VERSION:2.0
PRODID:-//VAE CINCINNATI - ECPv6.15.20//NONSGML v1.0//EN
CALSCALE:GREGORIAN
METHOD:PUBLISH
X-WR-CALNAME:VAE CINCINNATI
X-ORIGINAL-URL:https://vaecinci.com
X-WR-CALDESC:Events for VAE CINCINNATI
REFRESH-INTERVAL;VALUE=DURATION:PT1H
X-Robots-Tag:noindex
X-PUBLISHED-TTL:PT1H
BEGIN:VTIMEZONE
TZID:America/New_York
BEGIN:DAYLIGHT
TZOFFSETFROM:-0500
TZOFFSETTO:-0400
TZNAME:EDT
DTSTART:20210314T070000
END:DAYLIGHT
BEGIN:STANDARD
TZOFFSETFROM:-0400
TZOFFSETTO:-0500
TZNAME:EST
DTSTART:20211107T060000
END:STANDARD
BEGIN:DAYLIGHT
TZOFFSETFROM:-0500
TZOFFSETTO:-0400
TZNAME:EDT
DTSTART:20220313T070000
END:DAYLIGHT
BEGIN:STANDARD
TZOFFSETFROM:-0400
TZOFFSETTO:-0500
TZNAME:EST
DTSTART:20221106T060000
END:STANDARD
BEGIN:DAYLIGHT
TZOFFSETFROM:-0500
TZOFFSETTO:-0400
TZNAME:EDT
DTSTART:20230312T070000
END:DAYLIGHT
BEGIN:STANDARD
TZOFFSETFROM:-0400
TZOFFSETTO:-0500
TZNAME:EST
DTSTART:20231105T060000
END:STANDARD
BEGIN:DAYLIGHT
TZOFFSETFROM:-0500
TZOFFSETTO:-0400
TZNAME:EDT
DTSTART:20240310T070000
END:DAYLIGHT
BEGIN:STANDARD
TZOFFSETFROM:-0400
TZOFFSETTO:-0500
TZNAME:EST
DTSTART:20241103T060000
END:STANDARD
END:VTIMEZONE
BEGIN:VEVENT
DTSTART;TZID=America/New_York:20231216T193000
DTEND;TZID=America/New_York:20231216T193000
DTSTAMP:20260425T225335
CREATED:20230915T194654Z
LAST-MODIFIED:20231117T202611Z
UID:1613-1702755000-1702755000@vaecinci.com
SUMMARY:AN INTIMATE CHRISTMAS WITH VAE
DESCRIPTION:  \n  \n  \n  \n  \n  \n  \n  \n  \n  \nBUY TICKETS\nSUBSCRIBE TWO CONCERTS\nSUBSCRIBE THREE CONCERTS\n\nTREVOR KROEGER conductor\nWITH QUEEN CITY CABARET \nEscape the winter chill and the holiday rush at An Intimate Christmas with VAE\, a cozy reimagining of our candlelit holiday concert. Conductor Trevor Kroeger will lead VAE singers\, instrumentalists\, and Queen City Cabaret in a program featuring fresh arrangements of favorite holiday tunes and unexpected choral gems. Join us for this warm and welcoming celebration of the most wonderful time of the year! \nThis concert is supported in part by the Crosset Family Fund of the Greater Cincinnati Foundation. \nNeed help? Contact the Box Office 513.381.3300 (M-F 10-5; Sat. 10-2)
URL:https://vaecinci.com/event/an-intimate-christmas-with-vae/
LOCATION:Christ Church Cathedral\, 318 E. Fourth St\, Cincinnati\, OH\, 45202\, United States
END:VEVENT
BEGIN:VEVENT
DTSTART;TZID=America/New_York:20231028T140000
DTEND;TZID=America/New_York:20231028T140000
DTSTAMP:20260425T225335
CREATED:20230915T201030Z
LAST-MODIFIED:20230918T180618Z
UID:1627-1698501600-1698501600@vaecinci.com
SUMMARY:Salon Concert: Take Yourself With You
DESCRIPTION:
URL:https://vaecinci.com/event/take-yourself-with-you/
LOCATION:Wilks Studio\, Music Hall\, 1241 Elm St\, Cincinnati\, OH\, 45202\, United States
END:VEVENT
BEGIN:VEVENT
DTSTART;TZID=America/New_York:20230429T193000
DTEND;TZID=America/New_York:20230429T193000
DTSTAMP:20260425T225335
CREATED:20220915T170621Z
LAST-MODIFIED:20230428T181433Z
UID:1203-1682796600-1682796600@vaecinci.com
SUMMARY:Sanctuary Road
DESCRIPTION:Jarson Kaplan TheatreSAT APR 29 at 7:30 pmBuy Tickets \n\n\n\nSubscribe Now \n\n\n\nMalcolm Merriweather\, conductorDashon Burton\, bass-baritoneMalcom Merriweather\, baritoneLaquita Mitchell\, sopranoTaylor Raven\, mezzo-sopranoNoah Stewart\, tenor \n\n\n\nProgram: PAUL MORAVEC/MARK CAMPBELL: Sanctuary Road \n\n\n\n\n\nSanctuary Road by Pulitzer Prize-winning composer Paul Moravec and Pulitzer Prize and Grammy Award winning librettist Mark Campbell. It is the second of Moravec’s “American historical oratorios.” Campbell conceived and created the libretto drawn from the astonishing stories found in William Still’s The Underground Railroad. Regarded as the Father of the Underground Railroad\, Still‘s meticulous documentation of the heroic and courageous stories of enslaved African Americans escaping to freedom is transformed into a “modern choral masterpiece\, representing struggle and hope in the best of the oratorio tradition” (Black Grooves). \n\n\n\n“Each time I returned to Moravec’s new composition my admiration for his work grew\, and the music stayed with me long after I stopped listening.”—The Classical Review \n\n\n\n“The relevance of Sanctuary Road (2017) in our present century cannot be overstated\, analogous to that of Tippett’s A Child of our Time to wartime Britain.”—Gramophone \n\n\n\n“Moravec’s largely tonal score is deeply affecting and conveys the many voices represented in Still’s writings\, notably in the prologue’s gently overlapping melodic lines where name after name ripples among soloists and chorus.”—Classical Music \nVAE’s performance of Sanctuary Road is supported by the William O. Purdy\, Jr. Foundation Fund of the Greater Cincinnati Foundation and the Cincinnati Arts Association. \n\n\n\nNeed help? Contact the Box Office 513.381.3300 (M-F 10-5; Sat. 10-2) \n\n\n\nIMPORTANT: Please review our health and safety information and current protocols at vaecinci.com/health-safety
URL:https://vaecinci.com/event/sanctuary-road/
LOCATION:Jarson Kaplan Theater\, 650 Walnut Street\, Cincinnati\, OH\, 45202\, United States
END:VEVENT
BEGIN:VEVENT
DTSTART;TZID=America/New_York:20230121T193000
DTEND;TZID=America/New_York:20230121T193000
DTSTAMP:20260425T225335
CREATED:20220915T170634Z
LAST-MODIFIED:20230105T183019Z
UID:1207-1674329400-1674329400@vaecinci.com
SUMMARY:Path of Miracles
DESCRIPTION:Christ Church CathedralSAT JAN 21 at 7:30 pmBuy Tickets \n\n\n\nSubscribe Now \n\n\n\nCRAIG HELLA JOHNSON conductor \n\n\n\nProgram: JOBY TALBOT: Path of Miracles \n\n\n\nInspired by the historic pilgrimage to Santiago de Compostela\, Path of Miracles by Joby Talbot is a haunting choral masterpiece\, rich and raw in reflection of all life’s journeys. As Jill Kimball of the Second Inversion project writes\, “You don’t have to be religious\, or even spiritual\, to find adventure in Joby Talbot’s Path of Miracles. The seventeen-part harmony\, set to text that’s in turns religious\, historical\, and poetic\, is indescribably beautiful. Talbot’s piece is the choral interpretation of a month-long journey filled with excitement\, doubt\, revelation\, fear\, and triumph.” \n\n\n\n“Although it sounds forbidding as a concept it is anything but in performance\, where it is engrossing\, textured\, emotionally engaging and dramatic..”—The Arts Desk \n\n\n\n“This is musical mysticism at its richest and most greedy – grasping from all traditions and sources\, and treasuring each element in this musical collage..”—Gramophone \nVAE’s performance of Path of Miracles is supported by the Willard and Jean Mulford Charitable Fund of the Cambridge Charitable Foundation. \n\n\n\nNeed help? Contact the Box Office 513.381.3300 (M-F 10-5; Sat. 10-2) \n\n\n\nIMPORTANT: Please review our health and safety information and current protocols at vaecinci.com/health-safety
URL:https://vaecinci.com/event/path-of-miracles/
LOCATION:Christ Church Cathedral\, 318 E. Fourth St\, Cincinnati\, OH\, 45202\, United States
END:VEVENT
BEGIN:VEVENT
DTSTART;TZID=America/New_York:20221112T193000
DTEND;TZID=America/New_York:20221112T193000
DTSTAMP:20260425T225335
CREATED:20211115T185350Z
LAST-MODIFIED:20221108T135644Z
UID:805-1668281400-1668281400@vaecinci.com
SUMMARY:Mass for the Endangered
DESCRIPTION:Christ Church CathedralSAT NOV 12 at 7:30 pmBuy Tickets \n\n\n Subscribe and save 15% when you purchase by OCT 14! – Subscribe Now \nCRAIG HELLA JOHNSON conductor \nProgram: SARAH KIRKLAND SNIDER: Mass for the Endangered \nWhat does it mean to be stewards of the earth? Sarah Kirkland Snider’s Mass is a call to action and urgency in the ways in which we relate to the natural world. By weaving together the traditional musical modes of the Latin Mass and original text by Nathaniel Bellows her “gorgeous\, moving piece” (The Nation) brings the divine down to earth and reveals the miracles\, and responsibilities\, of so much wondrous life around us. \n“Snider’s lucid score [for ‘Mass for the Endangered’] is at once powerful and delicate…[with] striking harmonies\, imaginative use of texture [and] counterpoint that is as intricate and exquisite as a spider’s web. This a luminous and arresting disc that conveys its urgent ecological message with power and beauty.”—BBC Music Magazine \n“Arresting…[Mass for the Endangered] shines with multi-layered singing of uncommon beauty…Snider asserts her own musical personality as a composer who knows instinctively how to write for the human voice…Through her smart and resplendent exploration of age-old musical formulas\, Snider’s eco-inspired Mass for the Endangered is a blast from the past that resonates profoundly in the present.”—NPR All Things Considered \nVAE’s performance of Mass for the Endangered is supported by the Crosset Family Fund of the Greater Cincinnati Foundation and the Willard and Jean Mulford Charitable Fund of the Cambridge Charitable Foundation. \nNeed help? Contact the Box Office 513.381.3300 (M-F 10-5; Sat. 10-2) IMPORTANT: Please review our health and safety information and current protocols at vaecinci.com/health-safety
URL:https://vaecinci.com/event/mass-for-the-endangered/
LOCATION:Christ Church Cathedral\, 318 E. Fourth St\, Cincinnati\, OH\, 45202\, United States
END:VEVENT
END:VCALENDAR