BEGIN:VCALENDAR
VERSION:2.0
PRODID:-//VAE CINCINNATI - ECPv6.15.20//NONSGML v1.0//EN
CALSCALE:GREGORIAN
METHOD:PUBLISH
X-ORIGINAL-URL:https://vaecinci.com
X-WR-CALDESC:Events for VAE CINCINNATI
REFRESH-INTERVAL;VALUE=DURATION:PT1H
X-Robots-Tag:noindex
X-PUBLISHED-TTL:PT1H
BEGIN:VTIMEZONE
TZID:America/New_York
BEGIN:DAYLIGHT
TZOFFSETFROM:-0500
TZOFFSETTO:-0400
TZNAME:EDT
DTSTART:20250309T070000
END:DAYLIGHT
BEGIN:STANDARD
TZOFFSETFROM:-0400
TZOFFSETTO:-0500
TZNAME:EST
DTSTART:20251102T060000
END:STANDARD
BEGIN:DAYLIGHT
TZOFFSETFROM:-0500
TZOFFSETTO:-0400
TZNAME:EDT
DTSTART:20260308T070000
END:DAYLIGHT
BEGIN:STANDARD
TZOFFSETFROM:-0400
TZOFFSETTO:-0500
TZNAME:EST
DTSTART:20261101T060000
END:STANDARD
BEGIN:DAYLIGHT
TZOFFSETFROM:-0500
TZOFFSETTO:-0400
TZNAME:EDT
DTSTART:20270314T070000
END:DAYLIGHT
BEGIN:STANDARD
TZOFFSETFROM:-0400
TZOFFSETTO:-0500
TZNAME:EST
DTSTART:20271107T060000
END:STANDARD
END:VTIMEZONE
BEGIN:VEVENT
DTSTART;TZID=America/New_York:20260320T200000
DTEND;TZID=America/New_York:20260320T200000
DTSTAMP:20260425T101002
CREATED:20250809T153953Z
LAST-MODIFIED:20251126T210857Z
UID:2383-1774036800-1774036800@vaecinci.com
SUMMARY:To the Hands: Cutting Edge Art
DESCRIPTION:Ballroom\, Music Hall\n1241 Elm St.\nCincinnati OH 45202\nFRI\, MAR 20 at 8PM \n\nBUY TICKETS – FRI\, MAR 20\nSUBSCRIBE\n\nAn evening of genre-defying music that blurs the boundaries between choral tradition\, visual art and social reflection. Held in the strikingly intimate Ballroom at Music Hall\, Caroline Shaw’s To the Hands invites listeners on a multi-media rich journey through the powerful exploration of displacement\, belonging and shared humanity. Designed to resonate with both new and seasoned audiences alike\, this immersive program delivers bold\, boundary-pushing artistry that speaks directly to the world we live in today. 
URL:https://vaecinci.com/event/to-the-hands-cutting-edge-art/
LOCATION:Ballroom\, Music Hall\, 1241 Elm St.\, Cincinnati\, OH\, 45202\, United States
END:VEVENT
END:VCALENDAR